BEGIN:VCALENDAR
VERSION:2.0
PRODID:-//hacksw/handcal//NONSGML v1.0//EN
BEGIN:VEVENT
UID:45f8afb0ec65dc785fa75fb0cf9d9e93
DTSTAMP:20260420T105331Z

DTSTART:20210317T090000
DTEND:20210317T120000
SUMMARY:Manufactured Homes
DESCRIPTION:In a world of increasing home prices, manufactured homes have become an affordable housing choice for many people. However, manufactured homes are not real estate. As such, these transctions are very different and can be very confusing and high risk. In 2020, the Colorado Real Estate Commission's forms committee approved manfuactured home forms for use by real estate brokers. This course is a detailed analysis of these forms that goes through all the contracts line-by-line and analyzes why manufactured homes can be such dangerous trasnactions. If you have any interest in listing or selling a manufactured home, or are supercising those transactions, this class is a MUST.\n\nCost - $30\nCredits - 3\n\nInstructor Name - Amanda Potter\nCompany Name - Cox Education

X-ALT-DESC;FMTTYPE=text/html:<!DOCTYPE HTML PUBLIC "-//W3C//DTD HTML 3.2//EN">\n<HTML>\n<HEAD>\n<META NAME="Generator" CONTENT="MS Exchange Server version 08.00.0681.000">\n<TITLE></TITLE>\n</HEAD>\n<BODY>\n<!-- Converted from text/rtf format -->\n\nIn a world of increasing home prices, manufactured homes have become an affordable housing choice for many people. However, manufactured homes are not real estate. As such, these transctions are very different and can be very confusing and high risk. In 2020, the Colorado Real Estate Commission's forms committee approved manfuactured home forms for use by real estate brokers. This course is a detailed analysis of these forms that goes through all the contracts line-by-line and analyzes why manufactured homes can be such dangerous trasnactions. If you have any interest in listing or selling a manufactured home, or are supercising those transactions, this class is a MUST.<br /><br />Cost - $30<br />Credits - 3<br /><br />Instructor Name - Amanda Potter<br />Company Name - Cox Education\n\n</BODY>\n</HTML>

LOCATION:
END:VEVENT

END:VCALENDAR
