BEGIN:VCALENDAR
VERSION:2.0
PRODID:-//hacksw/handcal//NONSGML v1.0//EN
BEGIN:VEVENT
UID:edf2071a14776eb3acba25b3863380d1
DTSTAMP:20260421T025013Z

DTSTART:20210212T110000
DTEND:20210212T120000
SUMMARY:Appraisal Waivers – Disputes and Conflicts
DESCRIPTION:While insertion of appraisal waivers has become nearly routine in multiple offer situations, the variety of provisions used by brokers are far from standardized. \n \nDisputes over the interpretation of various appraisal waiver provisions are growing at an alarming rate.  \n\nThis class examines several variations of appraisal waivers and the interpretation conflicts that often arise between the buyer and seller.

X-ALT-DESC;FMTTYPE=text/html:<!DOCTYPE HTML PUBLIC "-//W3C//DTD HTML 3.2//EN">\n<HTML>\n<HEAD>\n<META NAME="Generator" CONTENT="MS Exchange Server version 08.00.0681.000">\n<TITLE></TITLE>\n</HEAD>\n<BODY>\n<!-- Converted from text/rtf format -->\n\nWhile insertion of appraisal waivers has become nearly routine in multiple offer situations, the variety of provisions used by brokers are far from standardized. <br /> <br />Disputes over the interpretation of various appraisal waiver provisions are growing at an alarming rate.  <br /><br />This class examines several variations of appraisal waivers and the interpretation conflicts that often arise between the buyer and seller.\n\n</BODY>\n</HTML>

LOCATION:
END:VEVENT

END:VCALENDAR
