BEGIN:VCALENDAR
VERSION:2.0
PRODID:-//hacksw/handcal//NONSGML v1.0//EN
BEGIN:VEVENT
UID:a707df6887a949a53d339c4861ea7260
DTSTAMP:20260420T041347Z

DTSTART:20210217T100000
DTEND:20210217T120000
SUMMARY:Basics of Underwriting
DESCRIPTION:Underwriting Basics is a two hour CE course designed to pull back the curtain of the Loan Underwriting process. In this class you will be introduced to the four Cs of lending and get insightful information designed to help you be a better resource for your clients!\n\nCredits - 2\n\nInstructor Name - DARREL CATES\nCompany Name - Success Mortgage Partners, Inc.

X-ALT-DESC;FMTTYPE=text/html:<!DOCTYPE HTML PUBLIC "-//W3C//DTD HTML 3.2//EN">\n<HTML>\n<HEAD>\n<META NAME="Generator" CONTENT="MS Exchange Server version 08.00.0681.000">\n<TITLE></TITLE>\n</HEAD>\n<BODY>\n<!-- Converted from text/rtf format -->\n\nUnderwriting Basics is a two hour CE course designed to pull back the curtain of the Loan Underwriting process. In this class you will be introduced to the four Cs of lending and get insightful information designed to help you be a better resource for your clients!<br /><br />Credits - 2<br /><br />Instructor Name - DARREL CATES<br />Company Name - Success Mortgage Partners, Inc.\n\n</BODY>\n</HTML>

LOCATION:
END:VEVENT

END:VCALENDAR
