BEGIN:VCALENDAR
VERSION:2.0
PRODID:-//hacksw/handcal//NONSGML v1.0//EN
BEGIN:VEVENT
UID:f4d546c3f2ad14c8a1ef5071b1b89140
DTSTAMP:20260420T005435Z

DTSTART:20210218T133000
DTEND:20210218T153000
SUMMARY:Close Like a Pro
DESCRIPTION:Smooth stress free closings for your buyer and seller can greatly increase the opportunity for referral business. Are you doing everything in your power to ensure the smoothest closing for your clients? Close Like a Pro is a class for new agents as well as experienced agents looking for ways increase referral business by ensuring professional closings.\n\nCredits - 2\n\nInstructor Name - ANTHONY MEISNER\nCompany Name - Land Title Guarantee Company

X-ALT-DESC;FMTTYPE=text/html:<!DOCTYPE HTML PUBLIC "-//W3C//DTD HTML 3.2//EN">\n<HTML>\n<HEAD>\n<META NAME="Generator" CONTENT="MS Exchange Server version 08.00.0681.000">\n<TITLE></TITLE>\n</HEAD>\n<BODY>\n<!-- Converted from text/rtf format -->\n\nSmooth stress free closings for your buyer and seller can greatly increase the opportunity for referral business. Are you doing everything in your power to ensure the smoothest closing for your clients? Close Like a Pro is a class for new agents as well as experienced agents looking for ways increase referral business by ensuring professional closings.<br /><br />Credits - 2<br /><br />Instructor Name - ANTHONY MEISNER<br />Company Name - Land Title Guarantee Company\n\n</BODY>\n</HTML>

LOCATION:
END:VEVENT

END:VCALENDAR
