BEGIN:VCALENDAR
VERSION:2.0
PRODID:-//hacksw/handcal//NONSGML v1.0//EN
BEGIN:VEVENT
UID:ac6319acf5213acda4d0bb7e72195af9
DTSTAMP:20260420T054740Z

DTSTART:20210302T090000
DTEND:20210302T130000
SUMMARY:2021 Annual Commission Update - Mar 02
DESCRIPTION:Every year the Division of Real Estate releases the required Annual Commission Update (ACU) course with topics the Division believes are important for brokers to know. This is the required class every broker must take each year.\n\nCost - 40\nCredits - 4\n\nInstructor Name - JON GOODMAN\nCompany Name - FRASCONA JOINER GOODMAN & GREENSTEIN PC

X-ALT-DESC;FMTTYPE=text/html:<!DOCTYPE HTML PUBLIC "-//W3C//DTD HTML 3.2//EN">\n<HTML>\n<HEAD>\n<META NAME="Generator" CONTENT="MS Exchange Server version 08.00.0681.000">\n<TITLE></TITLE>\n</HEAD>\n<BODY>\n<!-- Converted from text/rtf format -->\n\nEvery year the Division of Real Estate releases the required Annual Commission Update (ACU) course with topics the Division believes are important for brokers to know. This is the required class every broker must take each year.<br /><br />Cost - 40<br />Credits - 4<br /><br />Instructor Name - JON GOODMAN<br />Company Name - FRASCONA JOINER GOODMAN & GREENSTEIN PC\n\n</BODY>\n</HTML>

LOCATION:
END:VEVENT

END:VCALENDAR
