BEGIN:VCALENDAR
VERSION:2.0
PRODID:-//hacksw/handcal//NONSGML v1.0//EN
BEGIN:VEVENT
UID:a1bcadcb45d62ceb376ade7ca6c3576b
DTSTAMP:20260420T092623Z

DTSTART:20210301T110000
DTEND:20210301T120000
SUMMARY:4th Quarter, 2020 Trends - Mar 1
DESCRIPTION:1 CE Credit Available\n\nClients always ask “how’s the market?” This class gives you specific talking points to sound like an expert on the trends for the previous Quarter. We also discuss how you can use the information for listing presentations, and for buyers that aren’t sure if “now is the time to trade up” or if they should wait until later. 

X-ALT-DESC;FMTTYPE=text/html:<!DOCTYPE HTML PUBLIC "-//W3C//DTD HTML 3.2//EN">\n<HTML>\n<HEAD>\n<META NAME="Generator" CONTENT="MS Exchange Server version 08.00.0681.000">\n<TITLE></TITLE>\n</HEAD>\n<BODY>\n<!-- Converted from text/rtf format -->\n\n1 CE Credit Available<br /><br />Clients always ask “how’s the market?” This class gives you specific talking points to sound like an expert on the trends for the previous Quarter. We also discuss how you can use the information for listing presentations, and for buyers that aren’t sure if “now is the time to trade up” or if they should wait until later. \n\n</BODY>\n</HTML>

LOCATION:
END:VEVENT

END:VCALENDAR
