BEGIN:VCALENDAR
VERSION:2.0
PRODID:-//hacksw/handcal//NONSGML v1.0//EN
BEGIN:VEVENT
UID:4083b004dd16bf3b308ef3b1cc7bc4d3
DTSTAMP:20260420T020818Z

DTSTART:20210318T090000
DTEND:20210318T120000
SUMMARY:Trust Accounting - Mar 18
DESCRIPTION:Instructor: Rob Lynde\n\nIf you are in the property management business, you should be familiar with trust accounts. If a property manager is conducting traditional property management, a trust account must be created by the property managers brokerage firm to hold and manage funds belonging to their clients.\n\nIn this course you will learn the required procedures for handling trust accounts including security deposit trust accounts and operating trust accounts for rents collected and bills paid.\n\nCost - $30\nCredits - 3

X-ALT-DESC;FMTTYPE=text/html:<!DOCTYPE HTML PUBLIC "-//W3C//DTD HTML 3.2//EN">\n<HTML>\n<HEAD>\n<META NAME="Generator" CONTENT="MS Exchange Server version 08.00.0681.000">\n<TITLE></TITLE>\n</HEAD>\n<BODY>\n<!-- Converted from text/rtf format -->\n\nInstructor: Rob Lynde<br /><br />If you are in the property management business, you should be familiar with trust accounts. If a property manager is conducting traditional property management, a trust account must be created by the property managers brokerage firm to hold and manage funds belonging to their clients.<br /><br />In this course you will learn the required procedures for handling trust accounts including security deposit trust accounts and operating trust accounts for rents collected and bills paid.<br /><br />Cost - $30<br />Credits - 3\n\n</BODY>\n</HTML>

LOCATION:
END:VEVENT

END:VCALENDAR
