BEGIN:VCALENDAR
VERSION:2.0
PRODID:-//hacksw/handcal//NONSGML v1.0//EN
BEGIN:VEVENT
UID:2fc0422c8ee3d14cebd5a0dc44ed0624
DTSTAMP:20260420T155035Z

DTSTART:20210322T110000
DTEND:20210322T120000
SUMMARY:Top 5 Contract Disputes and How to Avoid Them - Mar 22
DESCRIPTION:We will examine some of the most frequent types of contract disputes and offer guidance on how to avoid them in the first place. We will also cover the process to recovery earnest money after a contract breach.\n\n

X-ALT-DESC;FMTTYPE=text/html:<!DOCTYPE HTML PUBLIC "-//W3C//DTD HTML 3.2//EN">\n<HTML>\n<HEAD>\n<META NAME="Generator" CONTENT="MS Exchange Server version 08.00.0681.000">\n<TITLE></TITLE>\n</HEAD>\n<BODY>\n<!-- Converted from text/rtf format -->\n\nWe will examine some of the most frequent types of contract disputes and offer guidance on how to avoid them in the first place. We will also cover the process to recovery earnest money after a contract breach.<br /><br />\n\n</BODY>\n</HTML>

LOCATION:
END:VEVENT

END:VCALENDAR
