BEGIN:VCALENDAR
VERSION:2.0
PRODID:-//hacksw/handcal//NONSGML v1.0//EN
BEGIN:VEVENT
UID:69f2623c09fc1dc64f47c0f742cc3b13
DTSTAMP:20260420T164957Z

DTSTART:20210408T090000
DTEND:20210408T120000
SUMMARY:Your Clients and Mortgage Forbearance - Apr 8
DESCRIPTION:Instructor: Roxane Webster\n\nMany homeowners applied for mortgage forbearances during the COVID-19 pandemic in an attempt to save their homes from foreclosure.  Mortgage forbearances are now expected to have mixed results as to their effectiveness helping homeowners avoid foreclosure as homeowners must now find ways to pay them back.  This class will give students a deeper understanding about mortgage forbearances, how they work, what there limitations are and how they potentially impact homeowners.  By having this deeper understanding, brokers will be better equipped to advise homeowners of their options surrounding mortgage forbearances. 

X-ALT-DESC;FMTTYPE=text/html:<!DOCTYPE HTML PUBLIC "-//W3C//DTD HTML 3.2//EN">\n<HTML>\n<HEAD>\n<META NAME="Generator" CONTENT="MS Exchange Server version 08.00.0681.000">\n<TITLE></TITLE>\n</HEAD>\n<BODY>\n<!-- Converted from text/rtf format -->\n\nInstructor: Roxane Webster<br /><br />Many homeowners applied for mortgage forbearances during the COVID-19 pandemic in an attempt to save their homes from foreclosure.  Mortgage forbearances are now expected to have mixed results as to their effectiveness helping homeowners avoid foreclosure as homeowners must now find ways to pay them back.  This class will give students a deeper understanding about mortgage forbearances, how they work, what there limitations are and how they potentially impact homeowners.  By having this deeper understanding, brokers will be better equipped to advise homeowners of their options surrounding mortgage forbearances. \n\n</BODY>\n</HTML>

LOCATION:
END:VEVENT

END:VCALENDAR
