BEGIN:VCALENDAR
VERSION:2.0
PRODID:-//hacksw/handcal//NONSGML v1.0//EN
BEGIN:VEVENT
UID:b6f6bcf77d5b419c98b4e0b64d7a735d
DTSTAMP:20260419T234635Z

DTSTART:20210414T110000
DTEND:20210414T130000
SUMMARY:All About ADU's
DESCRIPTION:Everything you need to know about Accessory Dwelling Units (ADU); how to get started, what you need to know, your potential return on investments, and how to properly protect yourself. This class is open to all. Realtors feel free to bring your clients.\n\nInstructor Name - Lisa Kerin-Welch & Sabrina Calnan

X-ALT-DESC;FMTTYPE=text/html:<!DOCTYPE HTML PUBLIC "-//W3C//DTD HTML 3.2//EN">\n<HTML>\n<HEAD>\n<META NAME="Generator" CONTENT="MS Exchange Server version 08.00.0681.000">\n<TITLE></TITLE>\n</HEAD>\n<BODY>\n<!-- Converted from text/rtf format -->\n\nEverything you need to know about Accessory Dwelling Units (ADU); how to get started, what you need to know, your potential return on investments, and how to properly protect yourself. This class is open to all. Realtors feel free to bring your clients.<br /><br />Instructor Name - Lisa Kerin-Welch & Sabrina Calnan\n\n</BODY>\n</HTML>

LOCATION:
END:VEVENT

END:VCALENDAR
