BEGIN:VCALENDAR
VERSION:2.0
PRODID:-//hacksw/handcal//NONSGML v1.0//EN
BEGIN:VEVENT
UID:f8deb9e85fdf7d27f5cde5b7323ca48d
DTSTAMP:20260420T090907Z

DTSTART:20210422T100000
DTEND:20210422T120000
SUMMARY:Understanding 1031 Exchanges Webinar
DESCRIPTION:Presented by Erin Crowley of Asset Preservation, Inc.\n\n2 CE Credits – No Cost

X-ALT-DESC;FMTTYPE=text/html:<!DOCTYPE HTML PUBLIC "-//W3C//DTD HTML 3.2//EN">\n<HTML>\n<HEAD>\n<META NAME="Generator" CONTENT="MS Exchange Server version 08.00.0681.000">\n<TITLE></TITLE>\n</HEAD>\n<BODY>\n<!-- Converted from text/rtf format -->\n\nPresented by Erin Crowley of Asset Preservation, Inc.<br /><br />2 CE Credits – No Cost\n\n</BODY>\n</HTML>

LOCATION:
END:VEVENT

END:VCALENDAR
