BEGIN:VCALENDAR
VERSION:2.0
PRODID:-//hacksw/handcal//NONSGML v1.0//EN
BEGIN:VEVENT
UID:2fb1c2d4e6bf922220bdec22d22121e9
DTSTAMP:20260420T043119Z

DTSTART:20210518T090000
DTEND:20210518T100000
SUMMARY:Title Insurance 101 - May 18
DESCRIPTION:Learn everything you need to know to educate your clients on the title insurance commitment and policy! Learn the basic fundamentals of Title Insurance. After taking this class, you will have basic knowledge of title insurance and how to read a title commitment.\n\nCredits - 1\n\nInstructor Name - Brenna Harper\nCompany Name - Land Title Guarantee Company

X-ALT-DESC;FMTTYPE=text/html:<!DOCTYPE HTML PUBLIC "-//W3C//DTD HTML 3.2//EN">\n<HTML>\n<HEAD>\n<META NAME="Generator" CONTENT="MS Exchange Server version 08.00.0681.000">\n<TITLE></TITLE>\n</HEAD>\n<BODY>\n<!-- Converted from text/rtf format -->\n\nLearn everything you need to know to educate your clients on the title insurance commitment and policy! Learn the basic fundamentals of Title Insurance. After taking this class, you will have basic knowledge of title insurance and how to read a title commitment.<br /><br />Credits - 1<br /><br />Instructor Name - Brenna Harper<br />Company Name - Land Title Guarantee Company\n\n</BODY>\n</HTML>

LOCATION:
END:VEVENT

END:VCALENDAR
