BEGIN:VCALENDAR
VERSION:2.0
PRODID:-//hacksw/handcal//NONSGML v1.0//EN
BEGIN:VEVENT
UID:08658ed82129f11427ed73996785d467
DTSTAMP:20260420T053824Z

DTSTART:20210511T130000
DTEND:20210511T140000
SUMMARY:Advanced Social Media: How to Optimize your Facebook Ads - May 11
DESCRIPTION:This class will walk you through how to run ads on Facebook. We will cover the special ads category, how to target, what to include in your ad, and best practices. There will be time to answer specific questions. This is more of an advanced social media class. Attendees should have knowledge of the various SM platforms. \n\n

X-ALT-DESC;FMTTYPE=text/html:<!DOCTYPE HTML PUBLIC "-//W3C//DTD HTML 3.2//EN">\n<HTML>\n<HEAD>\n<META NAME="Generator" CONTENT="MS Exchange Server version 08.00.0681.000">\n<TITLE></TITLE>\n</HEAD>\n<BODY>\n<!-- Converted from text/rtf format -->\n\nThis class will walk you through how to run ads on Facebook. We will cover the special ads category, how to target, what to include in your ad, and best practices. There will be time to answer specific questions. This is more of an advanced social media class. Attendees should have knowledge of the various SM platforms. <br /><br />\n\n</BODY>\n</HTML>

LOCATION:
END:VEVENT

END:VCALENDAR
