BEGIN:VCALENDAR
VERSION:2.0
PRODID:-//hacksw/handcal//NONSGML v1.0//EN
BEGIN:VEVENT
UID:7d26e34003563500480a37107fc6f5c2
DTSTAMP:20260420T122729Z

DTSTART:20210521T110000
DTEND:20210521T120000
SUMMARY:Working with A Home Builder May 21
DESCRIPTION:Working with a builder is a much different process than a re-sale. This class is designed to help agents who have not sold a new build yet, or maybe have only been through the process once. You’ll better understand key information on how the process works and questions to ask so you can make the experience easier for your buyers.\n\n

X-ALT-DESC;FMTTYPE=text/html:<!DOCTYPE HTML PUBLIC "-//W3C//DTD HTML 3.2//EN">\n<HTML>\n<HEAD>\n<META NAME="Generator" CONTENT="MS Exchange Server version 08.00.0681.000">\n<TITLE></TITLE>\n</HEAD>\n<BODY>\n<!-- Converted from text/rtf format -->\n\nWorking with a builder is a much different process than a re-sale. This class is designed to help agents who have not sold a new build yet, or maybe have only been through the process once. You’ll better understand key information on how the process works and questions to ask so you can make the experience easier for your buyers.<br /><br />\n\n</BODY>\n</HTML>

LOCATION:
END:VEVENT

END:VCALENDAR
