BEGIN:VCALENDAR
VERSION:2.0
PRODID:-//hacksw/handcal//NONSGML v1.0//EN
BEGIN:VEVENT
UID:f8d9dd179eb92c4fd7b977a8bf214907
DTSTAMP:20260420T094128Z

DTSTART:20210701T130000
DTEND:20210701T140000
SUMMARY:Working with A Home Builder - July 1
DESCRIPTION:Working with a builder is a much different process than a re-sale. This class is designed to help agents who have not sold a new build yet or have only been through the process once. You’ll better understand key information on how the process works and questions to ask so you can make the experience easier for your buyers.\n\n

X-ALT-DESC;FMTTYPE=text/html:<!DOCTYPE HTML PUBLIC "-//W3C//DTD HTML 3.2//EN">\n<HTML>\n<HEAD>\n<META NAME="Generator" CONTENT="MS Exchange Server version 08.00.0681.000">\n<TITLE></TITLE>\n</HEAD>\n<BODY>\n<!-- Converted from text/rtf format -->\n\nWorking with a builder is a much different process than a re-sale. This class is designed to help agents who have not sold a new build yet or have only been through the process once. You’ll better understand key information on how the process works and questions to ask so you can make the experience easier for your buyers.<br /><br />\n\n</BODY>\n</HTML>

LOCATION:
END:VEVENT

END:VCALENDAR
