BEGIN:VCALENDAR
VERSION:2.0
PRODID:-//hacksw/handcal//NONSGML v1.0//EN
BEGIN:VEVENT
UID:e05a6e47c95a0a5f831d76d1c019b9af
DTSTAMP:20260420T005954Z

DTSTART:20210721T100000
DTEND:20210721T110000
SUMMARY:2nd Quarter 2021 Trends - July 21
DESCRIPTION:The class will be presented live at Synergy One Lending. The class will also be streamed live via Zoom.\n\nLimited in-person seating.\nClients always ask “how’s the market?” This class gives you specific talking points to sound like an expert on the trends for the previous Quarter. We also discuss how you can use the information for listing presentations, and for buyers that aren’t sure if “now is the time to trade up” or if they should wait until later. 

X-ALT-DESC;FMTTYPE=text/html:<!DOCTYPE HTML PUBLIC "-//W3C//DTD HTML 3.2//EN">\n<HTML>\n<HEAD>\n<META NAME="Generator" CONTENT="MS Exchange Server version 08.00.0681.000">\n<TITLE></TITLE>\n</HEAD>\n<BODY>\n<!-- Converted from text/rtf format -->\n\nThe class will be presented live at Synergy One Lending. The class will also be streamed live via Zoom.<br /><br />Limited in-person seating.<br />Clients always ask “how’s the market?” This class gives you specific talking points to sound like an expert on the trends for the previous Quarter. We also discuss how you can use the information for listing presentations, and for buyers that aren’t sure if “now is the time to trade up” or if they should wait until later. \n\n</BODY>\n</HTML>

LOCATION:
END:VEVENT

END:VCALENDAR
