BEGIN:VCALENDAR
VERSION:2.0
PRODID:-//hacksw/handcal//NONSGML v1.0//EN
BEGIN:VEVENT
UID:7eb465219c00373a6d581c5751683df8
DTSTAMP:20260420T041512Z

DTSTART:20210729T113000
DTEND:20210729T123000
SUMMARY:Social Media for Beginners: How to use Instagram for your Business - July 29
DESCRIPTION:This class will cover the basics of using Instagram for your real estate business. We will touch on setting up an Instagram page, what content to post, and general, useful tips. There will be time for questions! 

X-ALT-DESC;FMTTYPE=text/html:<!DOCTYPE HTML PUBLIC "-//W3C//DTD HTML 3.2//EN">\n<HTML>\n<HEAD>\n<META NAME="Generator" CONTENT="MS Exchange Server version 08.00.0681.000">\n<TITLE></TITLE>\n</HEAD>\n<BODY>\n<!-- Converted from text/rtf format -->\n\nThis class will cover the basics of using Instagram for your real estate business. We will touch on setting up an Instagram page, what content to post, and general, useful tips. There will be time for questions! \n\n</BODY>\n</HTML>

LOCATION:
END:VEVENT

END:VCALENDAR
