BEGIN:VCALENDAR
VERSION:2.0
PRODID:-//hacksw/handcal//NONSGML v1.0//EN
BEGIN:VEVENT
UID:ef3c844343ce800ae22ab052ca34a6e4
DTSTAMP:20260420T122506Z

DTSTART:20210803T100000
DTEND:20210803T120000
SUMMARY:Backups, Escalation Clauses, and Other Techniques for Winning Offers - Aug 3
DESCRIPTION:Our tight housing inventory demands superior contract drafting and negotiation skills. Whether you're submitting offers for your buyer or managing multiples for your seller, there are many techniques to improve your bargaining position. Here are a few things we will cover:\n\n- Seller Contingency Clauses for Replacement Home\n- Post-Closing Occupancy Agreements to Help Your Seller\n- Appraisal and Inspection Waivers (what you should and shouldn't do)\n- Effective Contract Deadlines\n- Buying homes through written back-ups\n- Leveraging your listing with back-ups\n- Using Specific Performance as default remedy\n- Ins and Outs of Escalation Clauses\n- Leveraging your lender's expertise to get offers accepted.\n

X-ALT-DESC;FMTTYPE=text/html:<!DOCTYPE HTML PUBLIC "-//W3C//DTD HTML 3.2//EN">\n<HTML>\n<HEAD>\n<META NAME="Generator" CONTENT="MS Exchange Server version 08.00.0681.000">\n<TITLE></TITLE>\n</HEAD>\n<BODY>\n<!-- Converted from text/rtf format -->\n\nOur tight housing inventory demands superior contract drafting and negotiation skills. Whether you're submitting offers for your buyer or managing multiples for your seller, there are many techniques to improve your bargaining position. Here are a few things we will cover:<br /><br />- Seller Contingency Clauses for Replacement Home<br />- Post-Closing Occupancy Agreements to Help Your Seller<br />- Appraisal and Inspection Waivers (what you should and shouldn't do)<br />- Effective Contract Deadlines<br />- Buying homes through written back-ups<br />- Leveraging your listing with back-ups<br />- Using Specific Performance as default remedy<br />- Ins and Outs of Escalation Clauses<br />- Leveraging your lender's expertise to get offers accepted.<br />\n\n</BODY>\n</HTML>

LOCATION:
END:VEVENT

END:VCALENDAR
