BEGIN:VCALENDAR
VERSION:2.0
PRODID:-//hacksw/handcal//NONSGML v1.0//EN
BEGIN:VEVENT
UID:040497a72bfa4a886555098f9b136b34
DTSTAMP:20260420T034947Z

DTSTART:20210805T130000
DTEND:20210805T140000
SUMMARY:Seller Financing and Subject-To and Wrap Mortgages - Aug 5
DESCRIPTION:Thursday, August 5, 2021, from 1:00 PM to 2:00 PM\nStreaming Webinar - Online Learning Opportunity\n\nSelling with seller finance can involve a myriad of structures, from a straight owner carry loan, to wrap deeds of trust, contract for deed, and lease options. This class will focus on the advanced structures of "subject to" wraps, and contract for deed.

X-ALT-DESC;FMTTYPE=text/html:<!DOCTYPE HTML PUBLIC "-//W3C//DTD HTML 3.2//EN">\n<HTML>\n<HEAD>\n<META NAME="Generator" CONTENT="MS Exchange Server version 08.00.0681.000">\n<TITLE></TITLE>\n</HEAD>\n<BODY>\n<!-- Converted from text/rtf format -->\n\nThursday, August 5, 2021, from 1:00 PM to 2:00 PM<br />Streaming Webinar - Online Learning Opportunity<br /><br />Selling with seller finance can involve a myriad of structures, from a straight owner carry loan, to wrap deeds of trust, contract for deed, and lease options. This class will focus on the advanced structures of "subject to" wraps, and contract for deed.\n\n</BODY>\n</HTML>

LOCATION:
END:VEVENT

END:VCALENDAR
