BEGIN:VCALENDAR
VERSION:2.0
PRODID:-//hacksw/handcal//NONSGML v1.0//EN
BEGIN:VEVENT
UID:75d30cb5d93ec3f7ae3304a2f0b84a72
DTSTAMP:20260420T005728Z

DTSTART:20210826T130000
DTEND:20210826T140000
SUMMARY:2nd Quarter 2021 Trends (Streaming)
DESCRIPTION:Clients always ask “how’s the market?” This class gives you specific talking points to sound like an expert on the trends for the previous Quarter. We also discuss how you can use the information for listing presentations, and for buyers that aren’t sure if “now is the time to trade up” or if they should wait until later. \n\n

X-ALT-DESC;FMTTYPE=text/html:<!DOCTYPE HTML PUBLIC "-//W3C//DTD HTML 3.2//EN">\n<HTML>\n<HEAD>\n<META NAME="Generator" CONTENT="MS Exchange Server version 08.00.0681.000">\n<TITLE></TITLE>\n</HEAD>\n<BODY>\n<!-- Converted from text/rtf format -->\n\nClients always ask “how’s the market?” This class gives you specific talking points to sound like an expert on the trends for the previous Quarter. We also discuss how you can use the information for listing presentations, and for buyers that aren’t sure if “now is the time to trade up” or if they should wait until later. <br /><br />\n\n</BODY>\n</HTML>

LOCATION:
END:VEVENT

END:VCALENDAR
