BEGIN:VCALENDAR
VERSION:2.0
PRODID:-//hacksw/handcal//NONSGML v1.0//EN
BEGIN:VEVENT
UID:0eaead4438d0b91d8abf22e6a0629d33
DTSTAMP:20260420T005423Z

DTSTART:20210916T140000
DTEND:20210916T150000
SUMMARY:Title 101 Webinar
DESCRIPTION:Presented by Westcor Land Title Insurance Company\n\n1 CE Credits – No Cost

X-ALT-DESC;FMTTYPE=text/html:<!DOCTYPE HTML PUBLIC "-//W3C//DTD HTML 3.2//EN">\n<HTML>\n<HEAD>\n<META NAME="Generator" CONTENT="MS Exchange Server version 08.00.0681.000">\n<TITLE></TITLE>\n</HEAD>\n<BODY>\n<!-- Converted from text/rtf format -->\n\nPresented by Westcor Land Title Insurance Company<br /><br />1 CE Credits – No Cost\n\n</BODY>\n</HTML>

LOCATION:
END:VEVENT

END:VCALENDAR
