BEGIN:VCALENDAR
VERSION:2.0
PRODID:-//hacksw/handcal//NONSGML v1.0//EN
BEGIN:VEVENT
UID:6587326c41c9903974c6206bb8e02d2f
DTSTAMP:20260420T022807Z

DTSTART:20210915T110000
DTEND:20210915T130000
SUMMARY:Appraisals Its all about the comps!
DESCRIPTION:Take an in-depth look into appraisals from a lenders perspective. We will show you and explain the steps taken by an appraiser to determine a property's value. We will look at how adjustments are calculated, how comps are determined, and how to legally negotiate when appraisals come back short. You will surely expand your knowledge and enjoy this in depth look into appraisals.\n\nCost - 0\nCredits - 2\n\nNotes - Pre-registration is required to obtain a link for the class.\n\nInstructor Name - TYLER DUNCAN

X-ALT-DESC;FMTTYPE=text/html:<!DOCTYPE HTML PUBLIC "-//W3C//DTD HTML 3.2//EN">\n<HTML>\n<HEAD>\n<META NAME="Generator" CONTENT="MS Exchange Server version 08.00.0681.000">\n<TITLE></TITLE>\n</HEAD>\n<BODY>\n<!-- Converted from text/rtf format -->\n\nTake an in-depth look into appraisals from a lenders perspective. We will show you and explain the steps taken by an appraiser to determine a property's value. We will look at how adjustments are calculated, how comps are determined, and how to legally negotiate when appraisals come back short. You will surely expand your knowledge and enjoy this in depth look into appraisals.<br /><br />Cost - 0<br />Credits - 2<br /><br />Notes - Pre-registration is required to obtain a link for the class.<br /><br />Instructor Name - TYLER DUNCAN\n\n</BODY>\n</HTML>

LOCATION:
END:VEVENT

END:VCALENDAR
