BEGIN:VCALENDAR
VERSION:2.0
PRODID:-//hacksw/handcal//NONSGML v1.0//EN
BEGIN:VEVENT
UID:61ccd06da8ca64c451dc44060724a03d
DTSTAMP:20260420T142152Z

DTSTART:20210929T100000
DTEND:20210929T120000
SUMMARY:Maximizing Credit to Create a Stronger Offer
DESCRIPTION:Tired of your clients getting pushed aside because of their credit? Join us to learn the ins and outs on how credit scores impact your buyers. We will cover how credit is formed, calculated, and how increasing your clients credit can help maximize their buying power.\n\nCost - 0\nCredits - 2\n\nInstructor Name - ANDREW NUNTAPREDA \nCompany Name - Supreme Lending

X-ALT-DESC;FMTTYPE=text/html:<!DOCTYPE HTML PUBLIC "-//W3C//DTD HTML 3.2//EN">\n<HTML>\n<HEAD>\n<META NAME="Generator" CONTENT="MS Exchange Server version 08.00.0681.000">\n<TITLE></TITLE>\n</HEAD>\n<BODY>\n<!-- Converted from text/rtf format -->\n\nTired of your clients getting pushed aside because of their credit? Join us to learn the ins and outs on how credit scores impact your buyers. We will cover how credit is formed, calculated, and how increasing your clients credit can help maximize their buying power.<br /><br />Cost - 0<br />Credits - 2<br /><br />Instructor Name - ANDREW NUNTAPREDA <br />Company Name - Supreme Lending\n\n</BODY>\n</HTML>

LOCATION:
END:VEVENT

END:VCALENDAR
