BEGIN:VCALENDAR
VERSION:2.0
PRODID:-//hacksw/handcal//NONSGML v1.0//EN
BEGIN:VEVENT
UID:37d4f0f36d0564c50dbd8e21cfb73ead
DTSTAMP:20260420T020705Z

DTSTART:20211015T090000
DTEND:20211015T120000
SUMMARY:Drafting Better Additional Provisions - Oct 15
DESCRIPTION:Are you constantly wondering in what situations you might need to add additional provisions to a contract? Do you often add additional provisions to contracts? Sometimes, additional provisions are not the best solutions. Learn how to identify situations where additional provisions are beneficial and how to avoid the situations where they are not.\n\nCost - $40\nCredits - 3\n\nNotes - Your camera MUST be on the entire time to receive CE credit. 24-hour cancellation policy for a refund. Email: customerservice@educatedminds1.com with questions.\n\nInstructor Name - JON GOODMAN\nCompany Name - FRASCONA JOINER GOODMAN & GREENSTEIN PC

X-ALT-DESC;FMTTYPE=text/html:<!DOCTYPE HTML PUBLIC "-//W3C//DTD HTML 3.2//EN">\n<HTML>\n<HEAD>\n<META NAME="Generator" CONTENT="MS Exchange Server version 08.00.0681.000">\n<TITLE></TITLE>\n</HEAD>\n<BODY>\n<!-- Converted from text/rtf format -->\n\nAre you constantly wondering in what situations you might need to add additional provisions to a contract? Do you often add additional provisions to contracts? Sometimes, additional provisions are not the best solutions. Learn how to identify situations where additional provisions are beneficial and how to avoid the situations where they are not.<br /><br />Cost - $40<br />Credits - 3<br /><br />Notes - Your camera MUST be on the entire time to receive CE credit. 24-hour cancellation policy for a refund. Email: customerservice@educatedminds1.com with questions.<br /><br />Instructor Name - JON GOODMAN<br />Company Name - FRASCONA JOINER GOODMAN & GREENSTEIN PC\n\n</BODY>\n</HTML>

LOCATION:
END:VEVENT

END:VCALENDAR
