BEGIN:VCALENDAR
VERSION:2.0
PRODID:-//hacksw/handcal//NONSGML v1.0//EN
BEGIN:VEVENT
UID:e04b7800f92260c58e9dea07e3fa63ee
DTSTAMP:20260420T155202Z

DTSTART:20211026T090000
DTEND:20211026T120000
SUMMARY:Thriving Among iBuyers
DESCRIPTION:When your sellers want to consider an iBuyer, they need you more than ever. Dozens of iBuyers operate in Colorado. Your sellers need your help sifting through all the choices. Learn how to: Demonstrate your value to sellers who are considering soliciting offers from iBuyers. Cope with the forms and systems that iBuyers foist on your seller. Develop good practices to enhance your protection against seller remorse.\n\nCost - $40\nCredits - 4\n\nInstructor Name - JON GOODMAN\nCompany Name - FRASCONA JOINER GOODMAN & GREENSTEIN PC

X-ALT-DESC;FMTTYPE=text/html:<!DOCTYPE HTML PUBLIC "-//W3C//DTD HTML 3.2//EN">\n<HTML>\n<HEAD>\n<META NAME="Generator" CONTENT="MS Exchange Server version 08.00.0681.000">\n<TITLE></TITLE>\n</HEAD>\n<BODY>\n<!-- Converted from text/rtf format -->\n\nWhen your sellers want to consider an iBuyer, they need you more than ever. Dozens of iBuyers operate in Colorado. Your sellers need your help sifting through all the choices. Learn how to: Demonstrate your value to sellers who are considering soliciting offers from iBuyers. Cope with the forms and systems that iBuyers foist on your seller. Develop good practices to enhance your protection against seller remorse.<br /><br />Cost - $40<br />Credits - 4<br /><br />Instructor Name - JON GOODMAN<br />Company Name - FRASCONA JOINER GOODMAN & GREENSTEIN PC\n\n</BODY>\n</HTML>

LOCATION:
END:VEVENT

END:VCALENDAR
