BEGIN:VCALENDAR
VERSION:2.0
PRODID:-//hacksw/handcal//NONSGML v1.0//EN
BEGIN:VEVENT
UID:d6d37c17780abd2daad05c23a0814ab1
DTSTAMP:20260420T005740Z

DTSTART:20211102T100000
DTEND:20211102T110000
SUMMARY:Leasing to Section 8/HCV Tenants
DESCRIPTION:Tuesday, November 2, 2021, from 10:00 AM to 11:00 AM\nLIVE Webinar - Online Learning Opportunity\nLearn the ins and outs of leasing to Section 8/HCV Tenants.\n\nNow that the City & County of Denver requires that voucher holders have equal consideration for rent payments, landlords need to understand what's involved in leasing to Section 8/HCV tenants.\n\nMike Hoover, owner of Mavi Unlimited Property Management, will share his experience and insights working with Section 8. We’ll also have an “ask the manager” session at the end so bring any questions relative to your property management issues

X-ALT-DESC;FMTTYPE=text/html:<!DOCTYPE HTML PUBLIC "-//W3C//DTD HTML 3.2//EN">\n<HTML>\n<HEAD>\n<META NAME="Generator" CONTENT="MS Exchange Server version 08.00.0681.000">\n<TITLE></TITLE>\n</HEAD>\n<BODY>\n<!-- Converted from text/rtf format -->\n\nTuesday, November 2, 2021, from 10:00 AM to 11:00 AM<br />LIVE Webinar - Online Learning Opportunity<br />Learn the ins and outs of leasing to Section 8/HCV Tenants.<br /><br />Now that the City & County of Denver requires that voucher holders have equal consideration for rent payments, landlords need to understand what's involved in leasing to Section 8/HCV tenants.<br /><br />Mike Hoover, owner of Mavi Unlimited Property Management, will share his experience and insights working with Section 8. We’ll also have an “ask the manager” session at the end so bring any questions relative to your property management issues\n\n</BODY>\n</HTML>

LOCATION:
END:VEVENT

END:VCALENDAR
