BEGIN:VCALENDAR
VERSION:2.0
PRODID:-//hacksw/handcal//NONSGML v1.0//EN
BEGIN:VEVENT
UID:676e3ba2fe4c06b8ad689e88cdd0033c
DTSTAMP:20260420T105717Z

DTSTART:20211116T130000
DTEND:20211116T143000
SUMMARY:3rd Quarter 2021 Trends - Nov 16
DESCRIPTION:Tuesday, November 16, 2021, from 1:00 PM to 2:30 PM\nIn-Person Class - Synergy One Lending, 5675 DTC Boulevard #250, Greenwood Village CO 80111\n\nClients always ask “how’s the market?” This class gives you specific talking points about the current trends!\n\nThis class gives you specific talking points to sound like an expert on the trends for the previous Quarter. We also discuss how you can use the information for listing presentations, and for buyers that aren’t sure if “now is the time to trade up” or if they should wait until later.\n

X-ALT-DESC;FMTTYPE=text/html:<!DOCTYPE HTML PUBLIC "-//W3C//DTD HTML 3.2//EN">\n<HTML>\n<HEAD>\n<META NAME="Generator" CONTENT="MS Exchange Server version 08.00.0681.000">\n<TITLE></TITLE>\n</HEAD>\n<BODY>\n<!-- Converted from text/rtf format -->\n\nTuesday, November 16, 2021, from 1:00 PM to 2:30 PM<br />In-Person Class - Synergy One Lending, 5675 DTC Boulevard #250, Greenwood Village CO 80111<br /><br />Clients always ask “how’s the market?” This class gives you specific talking points about the current trends!<br /><br />This class gives you specific talking points to sound like an expert on the trends for the previous Quarter. We also discuss how you can use the information for listing presentations, and for buyers that aren’t sure if “now is the time to trade up” or if they should wait until later.<br />\n\n</BODY>\n</HTML>

LOCATION:
END:VEVENT

END:VCALENDAR
