BEGIN:VCALENDAR
VERSION:2.0
PRODID:-//hacksw/handcal//NONSGML v1.0//EN
BEGIN:VEVENT
UID:1329ef9fde9ec36e45efd7713ba0e749
DTSTAMP:20260420T060612Z

DTSTART:20211202T083000
DTEND:20211202T123000
SUMMARY:2021 Annual Commission Update - Dec 2
DESCRIPTION:Every year the Division of Real Estate releases the required Annual Commission Update (ACU) course with topics the Division believes are important for brokers to know. This is the required class every broker must take each year.\n\nCost - $40\nCredits - 4\n\nNotes - In-Person class only. Limited seating! 48-hour cancellation notice is required for a refund.\n\nInstructor Name - STEVEN OLSON\nCompany Name - RE/MAX Masters Millenium

X-ALT-DESC;FMTTYPE=text/html:<!DOCTYPE HTML PUBLIC "-//W3C//DTD HTML 3.2//EN">\n<HTML>\n<HEAD>\n<META NAME="Generator" CONTENT="MS Exchange Server version 08.00.0681.000">\n<TITLE></TITLE>\n</HEAD>\n<BODY>\n<!-- Converted from text/rtf format -->\n\nEvery year the Division of Real Estate releases the required Annual Commission Update (ACU) course with topics the Division believes are important for brokers to know. This is the required class every broker must take each year.<br /><br />Cost - $40<br />Credits - 4<br /><br />Notes - In-Person class only. Limited seating! 48-hour cancellation notice is required for a refund.<br /><br />Instructor Name - STEVEN OLSON<br />Company Name - RE/MAX Masters Millenium\n\n</BODY>\n</HTML>

LOCATION:
END:VEVENT

END:VCALENDAR
