BEGIN:VCALENDAR
VERSION:2.0
PRODID:-//hacksw/handcal//NONSGML v1.0//EN
BEGIN:VEVENT
UID:11b3a510cb58240da54c972e0172c6c7
DTSTAMP:20260420T111439Z

DTSTART:20211202T100000
DTEND:20211202T110000
SUMMARY:Top 5 Contract Disputes and How to Avoid Them  - Dec 2
DESCRIPTION:Greg will cover some of the most frequent types of contract disputes and offer guidance on how to avoid them.\n\nWe will examine some of the most frequent types of contract disputes and offer guidance on how to avoid them in the first place. We will also cover the process to recovery earnest money after a contract breach.

X-ALT-DESC;FMTTYPE=text/html:<!DOCTYPE HTML PUBLIC "-//W3C//DTD HTML 3.2//EN">\n<HTML>\n<HEAD>\n<META NAME="Generator" CONTENT="MS Exchange Server version 08.00.0681.000">\n<TITLE></TITLE>\n</HEAD>\n<BODY>\n<!-- Converted from text/rtf format -->\n\nGreg will cover some of the most frequent types of contract disputes and offer guidance on how to avoid them.<br /><br />We will examine some of the most frequent types of contract disputes and offer guidance on how to avoid them in the first place. We will also cover the process to recovery earnest money after a contract breach.\n\n</BODY>\n</HTML>

LOCATION:
END:VEVENT

END:VCALENDAR
