BEGIN:VCALENDAR
VERSION:2.0
PRODID:-//hacksw/handcal//NONSGML v1.0//EN
BEGIN:VEVENT
UID:9116ff1dff15db3833f982a72b2cc1de
DTSTAMP:20260420T070320Z

DTSTART:20211207T110000
DTEND:20211207T120000
SUMMARY:New Contract Forms for 2022 - Dec 7
DESCRIPTION:IN-PERSON Class - Compass Real Estate, 200 Columbine Street Suite 500, Denver CO 80206\n\nDORA just issued new and revised contract forms for 2022. This class tells you all you need to know about the new forms in 1 hour.\n\nDORA just issued new and revised contract forms. This class tells you all you need to know about the new forms in 1 hour.  Come learn about the new forms before you start writing contracts next year.  We will review all of the changes as well as discuss some of the existing contract provisions that are common sources of confusion and dispute. \n\nIncludes 1 Free CE Credit!

X-ALT-DESC;FMTTYPE=text/html:<!DOCTYPE HTML PUBLIC "-//W3C//DTD HTML 3.2//EN">\n<HTML>\n<HEAD>\n<META NAME="Generator" CONTENT="MS Exchange Server version 08.00.0681.000">\n<TITLE></TITLE>\n</HEAD>\n<BODY>\n<!-- Converted from text/rtf format -->\n\nIN-PERSON Class - Compass Real Estate, 200 Columbine Street Suite 500, Denver CO 80206<br /><br />DORA just issued new and revised contract forms for 2022. This class tells you all you need to know about the new forms in 1 hour.<br /><br />DORA just issued new and revised contract forms. This class tells you all you need to know about the new forms in 1 hour.  Come learn about the new forms before you start writing contracts next year.  We will review all of the changes as well as discuss some of the existing contract provisions that are common sources of confusion and dispute. <br /><br />Includes 1 Free CE Credit!\n\n</BODY>\n</HTML>

LOCATION:
END:VEVENT

END:VCALENDAR
