BEGIN:VCALENDAR
VERSION:2.0
PRODID:-//hacksw/handcal//NONSGML v1.0//EN
BEGIN:VEVENT
UID:dff3941e9e77c8c98ce3e8c28c02b2f6
DTSTAMP:20260420T011008Z

DTSTART:20211210T100000
DTEND:20211210T120000
SUMMARY:Real Estate Agent’s Guide to Home and Flood Insurance Class (Colorado Only)
DESCRIPTION:Presented by Integrity 1st Insurance\n\n2 CE Credits for Colorado Agents – No Cost

X-ALT-DESC;FMTTYPE=text/html:<!DOCTYPE HTML PUBLIC "-//W3C//DTD HTML 3.2//EN">\n<HTML>\n<HEAD>\n<META NAME="Generator" CONTENT="MS Exchange Server version 08.00.0681.000">\n<TITLE></TITLE>\n</HEAD>\n<BODY>\n<!-- Converted from text/rtf format -->\n\nPresented by Integrity 1st Insurance<br /><br />2 CE Credits for Colorado Agents – No Cost\n\n</BODY>\n</HTML>

LOCATION:
END:VEVENT

END:VCALENDAR
