BEGIN:VCALENDAR
VERSION:2.0
PRODID:-//hacksw/handcal//NONSGML v1.0//EN
BEGIN:VEVENT
UID:0d56e358fb19da30b30c1db124c330c4
DTSTAMP:20260420T020849Z

DTSTART:20211230T090000
DTEND:20211230T130000
SUMMARY:2021 Annual Commission Update - Dec 30
DESCRIPTION:Every year the Division of Real Estate releases the required Annual Commission Update (ACU) course with topics the Division believes are important for brokers to know. This is the required class every broker must take each year.\n\nCost - $40\nCredits - 4\n\nNotes - Zoom class only. You must log in on your own computer and have your video on at all times to receive CE credit.\n\nInstructor Name - RANDY HAY\nCompany Name - RANDY Cox Education

X-ALT-DESC;FMTTYPE=text/html:<!DOCTYPE HTML PUBLIC "-//W3C//DTD HTML 3.2//EN">\n<HTML>\n<HEAD>\n<META NAME="Generator" CONTENT="MS Exchange Server version 08.00.0681.000">\n<TITLE></TITLE>\n</HEAD>\n<BODY>\n<!-- Converted from text/rtf format -->\n\nEvery year the Division of Real Estate releases the required Annual Commission Update (ACU) course with topics the Division believes are important for brokers to know. This is the required class every broker must take each year.<br /><br />Cost - $40<br />Credits - 4<br /><br />Notes - Zoom class only. You must log in on your own computer and have your video on at all times to receive CE credit.<br /><br />Instructor Name - RANDY HAY<br />Company Name - RANDY Cox Education\n\n</BODY>\n</HTML>

LOCATION:
END:VEVENT

END:VCALENDAR
