BEGIN:VCALENDAR
VERSION:2.0
PRODID:-//hacksw/handcal//NONSGML v1.0//EN
BEGIN:VEVENT
UID:f48049f7c4354a75b411839879c6cfe5
DTSTAMP:20260420T130531Z

DTSTART:20220111T130000
DTEND:20220111T143000
SUMMARY:Deciphering the Legalese in the Contract to Buy and Sell
DESCRIPTION:This class examines each paragraph of the purchase and sale agreement, why the paragraph is in the contract, and what it means.\nEver tried to explain to your buyer or seller the meaning of all the various provisions in the standard buy and sell contract? This class examines each paragraph of the purchase and sale agreement, why the paragraph is in the contract, and what it really means for your buyer and seller. This class is perfect for agents needing a contract refresher, or for experienced agents that want to discover some short-hand ways of explaining the contract provisions to their clients.

X-ALT-DESC;FMTTYPE=text/html:<!DOCTYPE HTML PUBLIC "-//W3C//DTD HTML 3.2//EN">\n<HTML>\n<HEAD>\n<META NAME="Generator" CONTENT="MS Exchange Server version 08.00.0681.000">\n<TITLE></TITLE>\n</HEAD>\n<BODY>\n<!-- Converted from text/rtf format -->\n\n<p>This class examines each paragraph of the purchase and sale agreement, why the paragraph is in the contract, and what it means.</p><br /><p>Ever tried to explain to your buyer or seller the meaning of all the various provisions in the standard buy and sell contract? This class examines each paragraph of the purchase and sale agreement, why the paragraph is in the contract, and what it really means for your buyer and seller. This class is perfect for agents needing a contract refresher, or for experienced agents that want to discover some short-hand ways of explaining the contract provisions to their clients.</p>\n\n</BODY>\n</HTML>

LOCATION:
END:VEVENT

END:VCALENDAR
