BEGIN:VCALENDAR
VERSION:2.0
PRODID:-//hacksw/handcal//NONSGML v1.0//EN
BEGIN:VEVENT
UID:cab720a73938dbd482afc3d63e8d1658
DTSTAMP:20260420T044052Z

DTSTART:20220127T100000
DTEND:20220127T110000
SUMMARY:4th Quarter 2021 Trends - Jan 27
DESCRIPTION:LIVE Webinar- Online Learning Event\nClients always ask “how’s the market?”\n\nThis class gives you specific talking points to sound like an expert on the trends for the previous Quarter. We also discuss how you can use the information for listing presentations, and for buyers that aren’t sure if “now is the time to trade up” or if they should wait until later.

X-ALT-DESC;FMTTYPE=text/html:<!DOCTYPE HTML PUBLIC "-//W3C//DTD HTML 3.2//EN">\n<HTML>\n<HEAD>\n<META NAME="Generator" CONTENT="MS Exchange Server version 08.00.0681.000">\n<TITLE></TITLE>\n</HEAD>\n<BODY>\n<!-- Converted from text/rtf format -->\n\n<p>LIVE Webinar- Online Learning Event</p><br /><p>Clients always ask “how’s the market?”<br /><br />This class gives you specific talking points to sound like an expert on the trends for the previous Quarter. We also discuss how you can use the information for listing presentations, and for buyers that aren’t sure if “now is the time to trade up” or if they should wait until later.</p>\n\n</BODY>\n</HTML>

LOCATION:
END:VEVENT

END:VCALENDAR
