BEGIN:VCALENDAR
VERSION:2.0
PRODID:-//hacksw/handcal//NONSGML v1.0//EN
BEGIN:VEVENT
UID:6cdf5f2950c04fc7a7ed9f57951ca264
DTSTAMP:20260420T113528Z

DTSTART:20220326T100000
DTEND:20220327T170000
SUMMARY:Katy Home and Garden Show 2022
DESCRIPTION:Katy Home and Garden Show will be held Mar 26th – 27th, 2022 in Katy, TX. This Katy home show is held at Katy ISD Ag Center and hosted by RJC Productions.\nThis beloved community event is entering its 16th year! Shop, compare &amp; save at this showcase of everything for the interior and exterior of your home. You’ll find reputable companies, with experts on hand, all dedicated to giving you the home and garden of your dreams!\n\nSat: 10:00am - 6:00pm\nSun: 11:00am - 5:00pm\n\nAdults - $9.00\n12 &amp; Under are FREE

X-ALT-DESC;FMTTYPE=text/html:<!DOCTYPE HTML PUBLIC "-//W3C//DTD HTML 3.2//EN">\n<HTML>\n<HEAD>\n<META NAME="Generator" CONTENT="MS Exchange Server version 08.00.0681.000">\n<TITLE></TITLE>\n</HEAD>\n<BODY>\n<!-- Converted from text/rtf format -->\n\n<p>Katy Home and Garden Show will be held Mar 26th – 27th, 2022 in Katy, TX. This Katy home show is held at Katy ISD Ag Center and hosted by RJC Productions.</p><br /><p>This beloved community event is entering its 16th year! Shop, compare &amp; save at this showcase of everything for the interior and exterior of your home. You’ll find reputable companies, with experts on hand, all dedicated to giving you the home and garden of your dreams!</p><br /><ul><br /><li>Sat: 10:00am - 6:00pm</li><br /><li>Sun: 11:00am - 5:00pm</li><br /></ul><br /><p>Adults - $9.00<br />12 &amp; Under are FREE</p>\n\n</BODY>\n</HTML>

LOCATION:Katy Hockley Cut Off Road, Houston, Katy, Harris County, Texas, 77493, United States
END:VEVENT

END:VCALENDAR
