BEGIN:VCALENDAR
VERSION:2.0
PRODID:-//hacksw/handcal//NONSGML v1.0//EN
BEGIN:VEVENT
UID:97a903cfce44d9da4c0f449de1ec4687
DTSTAMP:20260420T010017Z

DTSTART:20220225T110000
DTEND:20220227T180000
SUMMARY:Downtown Raleigh Home Show 2022
DESCRIPTION:Downtown Raleigh Home Show will be held Feb 25th – 27th, 2022 in Raleigh, NC. This Raleigh home show is held at Raleigh Convention Center and hosted by .\nCome and meet the area's best vendors and businesses who can help make your home dream plans come true! There will be a Hero Day for all teachers, active Military personnel, Veterans, Fire, Police and First Responders. There will also be a Senior Day where seniors can get in for discounted prices.\nFri: 11:00am - 9:00pm\nSat: 10:00am - 9:00pm\nSun: 10:00am - 6:00pm\n \nOnline: 9.00\nBox Office: 12.00\nChildren 12 and Under: Free

X-ALT-DESC;FMTTYPE=text/html:<!DOCTYPE HTML PUBLIC "-//W3C//DTD HTML 3.2//EN">\n<HTML>\n<HEAD>\n<META NAME="Generator" CONTENT="MS Exchange Server version 08.00.0681.000">\n<TITLE></TITLE>\n</HEAD>\n<BODY>\n<!-- Converted from text/rtf format -->\n\n<p>Downtown Raleigh Home Show will be held Feb 25th – 27th, 2022 in Raleigh, NC. This Raleigh home show is held at Raleigh Convention Center and hosted by .</p><br /><p>Come and meet the area's best vendors and businesses who can help make your home dream plans come true! There will be a Hero Day for all teachers, active Military personnel, Veterans, Fire, Police and First Responders. There will also be a Senior Day where seniors can get in for discounted prices.</p><br /><p>Fri: 11:00am - 9:00pm</p><br /><p>Sat: 10:00am - 9:00pm</p><br /><p>Sun: 10:00am - 6:00pm</p><br /><p> </p><br /><p>Online: 9.00<br />Box Office: 12.00<br />Children 12 and Under: Free</p>\n\n</BODY>\n</HTML>

LOCATION:Raleigh Convention Center, 500, South Salisbury Street, Warehouse District, Raleigh, Wake County, North Carolina, 27601, United States
END:VEVENT

END:VCALENDAR
