BEGIN:VCALENDAR
VERSION:2.0
PRODID:-//hacksw/handcal//NONSGML v1.0//EN
BEGIN:VEVENT
UID:e71bb0439101b99425a99c8c5b014964
DTSTAMP:20260420T093206Z

DTSTART:20220311T150000
DTEND:20220313T160000
SUMMARY:Rochester Home and Lifestyles Show 2022
DESCRIPTION:Rochester Home and Lifestyles Show will be held Mar 11th – 13th, 2022 in Rochester, MN. This Rochester home show is held at Graham Arena Complex and hosted by .\nEngage, interact and network at the region's largest show for home and lifestyle goods!

X-ALT-DESC;FMTTYPE=text/html:<!DOCTYPE HTML PUBLIC "-//W3C//DTD HTML 3.2//EN">\n<HTML>\n<HEAD>\n<META NAME="Generator" CONTENT="MS Exchange Server version 08.00.0681.000">\n<TITLE></TITLE>\n</HEAD>\n<BODY>\n<!-- Converted from text/rtf format -->\n\n<p>Rochester Home and Lifestyles Show will be held Mar 11th – 13th, 2022 in Rochester, MN. This Rochester home show is held at Graham Arena Complex and hosted by .</p><br /><p>Engage, interact and network at the region's largest show for home and lifestyle goods!</p>\n\n</BODY>\n</HTML>

LOCATION:1570, Fairgrounds Avenue Southeast, Rochester, Olmsted County, Minnesota, 55904, United States
END:VEVENT

END:VCALENDAR
