BEGIN:VCALENDAR
VERSION:2.0
PRODID:-//hacksw/handcal//NONSGML v1.0//EN
BEGIN:VEVENT
UID:07c4d97c27a6bda3d8bd32437b8a6739
DTSTAMP:20260420T110949Z

DTSTART:20220215T130000
DTEND:20220215T140000
SUMMARY:Title Insurance 101 - Feb 15
DESCRIPTION:Learn everything you need to know to educate your clients on the title insurance commitment and policy! Learn the basic fundamentals of Title Insurance. After taking this class, you will have basic knowledge of title insurance and how to read a title commitment.\nCost - 0\nCredits - 1\nLocation - Durango Public Library\nInstructor Name - TOM LOCH\nCompany Name - Land Title Guarantee Company

X-ALT-DESC;FMTTYPE=text/html:<!DOCTYPE HTML PUBLIC "-//W3C//DTD HTML 3.2//EN">\n<HTML>\n<HEAD>\n<META NAME="Generator" CONTENT="MS Exchange Server version 08.00.0681.000">\n<TITLE></TITLE>\n</HEAD>\n<BODY>\n<!-- Converted from text/rtf format -->\n\n<p>Learn everything you need to know to educate your clients on the title insurance commitment and policy! Learn the basic fundamentals of Title Insurance. After taking this class, you will have basic knowledge of title insurance and how to read a title commitment.</p><br /><p>Cost - 0</p><br /><p>Credits - 1</p><br /><p>Location - Durango Public Library</p><br /><p>Instructor Name - TOM LOCH</p><br /><p>Company Name - Land Title Guarantee Company</p>\n\n</BODY>\n</HTML>

LOCATION:Durango Public Library, 1900, East 3rd Avenue, Durango, La Plata County, Colorado, 81301, United States
END:VEVENT

END:VCALENDAR
