BEGIN:VCALENDAR
VERSION:2.0
PRODID:-//hacksw/handcal//NONSGML v1.0//EN
BEGIN:VEVENT
UID:14ac83b23c9ea91ca4e30b307270f936
DTSTAMP:20260420T010109Z

DTSTART:20220326T100000
DTEND:20220327T170000
SUMMARY:Solano County Home and Garden Show 2022
DESCRIPTION:Solano County Home and Garden Show will be held Mar 26th – 27th, 2022 in Dixon, CA. This Dixon home show is held at Dixon Fairgrounds and hosted by .\nThe Solano County Home and Garden Show will have home improvement exhibitors, the latest products, arts and unique crafters, food vendors, the Annual Scarecrow contest, costume parades, kid's zone and so much more!

X-ALT-DESC;FMTTYPE=text/html:<!DOCTYPE HTML PUBLIC "-//W3C//DTD HTML 3.2//EN">\n<HTML>\n<HEAD>\n<META NAME="Generator" CONTENT="MS Exchange Server version 08.00.0681.000">\n<TITLE></TITLE>\n</HEAD>\n<BODY>\n<!-- Converted from text/rtf format -->\n\n<p>Solano County Home and Garden Show will be held Mar 26th – 27th, 2022 in Dixon, CA. This Dixon home show is held at Dixon Fairgrounds and hosted by .</p><br /><p>The Solano County Home and Garden Show will have home improvement exhibitors, the latest products, arts and unique crafters, food vendors, the Annual Scarecrow contest, costume parades, kid's zone and so much more!</p>\n\n</BODY>\n</HTML>

LOCATION:Dixon May Fairgrounds, Dixon, Solano County, California, United States
END:VEVENT

END:VCALENDAR
