BEGIN:VCALENDAR
VERSION:2.0
PRODID:-//hacksw/handcal//NONSGML v1.0//EN
BEGIN:VEVENT
UID:94d2c72acaa55794d52f625736cdb60f
DTSTAMP:20260419T181928Z

DTSTART:20220318T150000
DTEND:20220320T170000
SUMMARY:South Hills Home Show 2022
DESCRIPTION:South Hills Home Show will be held Mar 18th – 20th, 2022 in Pittsburgh, PA. This Pittsburgh home show is held at Cool Springs Sports Complex and hosted by .\nYou'll find fresh ideas for home improvement at the South Hills Home Show. There will be decorating, landscaping, exhibits, seminars and so much more!

X-ALT-DESC;FMTTYPE=text/html:<!DOCTYPE HTML PUBLIC "-//W3C//DTD HTML 3.2//EN">\n<HTML>\n<HEAD>\n<META NAME="Generator" CONTENT="MS Exchange Server version 08.00.0681.000">\n<TITLE></TITLE>\n</HEAD>\n<BODY>\n<!-- Converted from text/rtf format -->\n\n<p>South Hills Home Show will be held Mar 18th – 20th, 2022 in Pittsburgh, PA. This Pittsburgh home show is held at Cool Springs Sports Complex and hosted by .</p><br /><p>You'll find fresh ideas for home improvement at the South Hills Home Show. There will be decorating, landscaping, exhibits, seminars and so much more!</p>\n\n</BODY>\n</HTML>

LOCATION:Pittsburgh, Allegheny County, Pennsylvania, United States
END:VEVENT

END:VCALENDAR
