BEGIN:VCALENDAR
VERSION:2.0
PRODID:-//hacksw/handcal//NONSGML v1.0//EN
BEGIN:VEVENT
UID:3acfb13f0e8422a6e36d919ad7a1ff87
DTSTAMP:20260420T053943Z

DTSTART:20221111T120000
DTEND:20221113T160000
SUMMARY:Salt Lake Home Fall Expo 2022
DESCRIPTION:Salt Lake Home Expo will be held Nov 11th-13th, 2022 in Sandy, UT. This Sandy home show is held at Mountain America Expo Center and hosted by Nationwide Expos.\nThe Salt Lake Home Expo is just in time to finish up your home improvement projects! See the latest in home remodeling, design, outdoor living and so much more!

X-ALT-DESC;FMTTYPE=text/html:<!DOCTYPE HTML PUBLIC "-//W3C//DTD HTML 3.2//EN">\n<HTML>\n<HEAD>\n<META NAME="Generator" CONTENT="MS Exchange Server version 08.00.0681.000">\n<TITLE></TITLE>\n</HEAD>\n<BODY>\n<!-- Converted from text/rtf format -->\n\n<p>Salt Lake Home Expo will be held Nov 11th-13th, 2022 in Sandy, UT. This Sandy home show is held at Mountain America Expo Center and hosted by Nationwide Expos.</p><br /><p>The Salt Lake Home Expo is just in time to finish up your home improvement projects! See the latest in home remodeling, design, outdoor living and so much more!</p>\n\n</BODY>\n</HTML>

LOCATION:9575, State Street, Wallace Heights, Sandy, Salt Lake County, Utah, 84070, United States
END:VEVENT

END:VCALENDAR
