BEGIN:VCALENDAR
VERSION:2.0
PRODID:-//hacksw/handcal//NONSGML v1.0//EN
BEGIN:VEVENT
UID:97bc2efb2ce443853ef15b01a988840e
DTSTAMP:20260420T023047Z

DTSTART:20220408T000000
DTEND:20220410T160000
SUMMARY:Pueblo Spring Home Show 2022
DESCRIPTION:Pueblo Spring Home Show will be held Apr 8th – 10th, 2022 in Pueblo, CO. This Pueblo home show is held at Pueblo Convention Center and hosted by Nationwide Expos.\nThe Pueblo Spring Home Show is just in time to finish up your home improvement projects! See the latest in home remodeling, design, outdoor living and so much more!

X-ALT-DESC;FMTTYPE=text/html:<!DOCTYPE HTML PUBLIC "-//W3C//DTD HTML 3.2//EN">\n<HTML>\n<HEAD>\n<META NAME="Generator" CONTENT="MS Exchange Server version 08.00.0681.000">\n<TITLE></TITLE>\n</HEAD>\n<BODY>\n<!-- Converted from text/rtf format -->\n\n<p>Pueblo Spring Home Show will be held Apr 8th – 10th, 2022 in Pueblo, CO. This Pueblo home show is held at Pueblo Convention Center and hosted by Nationwide Expos.</p><br /><p>The Pueblo Spring Home Show is just in time to finish up your home improvement projects! See the latest in home remodeling, design, outdoor living and so much more!</p>\n\n</BODY>\n</HTML>

LOCATION:Pueblo Convention Center, 320, Central Main Street, Pueblo, Pueblo County, Colorado, 81003, United States
END:VEVENT

END:VCALENDAR
