BEGIN:VCALENDAR
VERSION:2.0
PRODID:-//hacksw/handcal//NONSGML v1.0//EN
BEGIN:VEVENT
UID:101ba6e9274392fd4a372deac9cfc513
DTSTAMP:20260420T085805Z

DTSTART:20220303T130000
DTEND:20220303T140000
SUMMARY:Cash Now, Finance Later
DESCRIPTION:Spire Financial will purchase the home of your dreams for cash and allow you to finance later. Join us to learn more...\nSpire Financial recognizes the challenges with the low home inventory crisis that home shoppers are facing in today's market. To help overcome this challenge. Spire Financial will purchase the home of your dreams for cash and allow you to finance later.\nTo learn more join us…..\nClass taught by Jill Nelson, Spire Financial

X-ALT-DESC;FMTTYPE=text/html:<!DOCTYPE HTML PUBLIC "-//W3C//DTD HTML 3.2//EN">\n<HTML>\n<HEAD>\n<META NAME="Generator" CONTENT="MS Exchange Server version 08.00.0681.000">\n<TITLE></TITLE>\n</HEAD>\n<BODY>\n<!-- Converted from text/rtf format -->\n\n<p>Spire Financial will purchase the home of your dreams for cash and allow you to finance later. Join us to learn more...</p><br /><p>Spire Financial recognizes the challenges with the low home inventory crisis that home shoppers are facing in today's market. To help overcome this challenge. Spire Financial will purchase the home of your dreams for cash and allow you to finance later.</p><br /><p>To learn more join us…..</p><br /><p>Class taught by Jill Nelson, Spire Financial</p>\n\n</BODY>\n</HTML>

LOCATION:1333, West 120th Avenue, Westminster, Adams County, Colorado, 80234, United States
END:VEVENT

END:VCALENDAR
