BEGIN:VCALENDAR
VERSION:2.0
PRODID:-//hacksw/handcal//NONSGML v1.0//EN
BEGIN:VEVENT
UID:7578385712c23d7cc47e25383e798aa7
DTSTAMP:20260420T143904Z

DTSTART:20220812T140000
DTEND:20220814T170000
SUMMARY:Austin Fall Home and Garden Show 2022
DESCRIPTION:Austin Fall Home and Garden Show will be held Aug 12th – 14th, 2022 in Austin, TX. This Austin home show is held at Austin Convention Center and hosted by .\nThe Austin Home and Garden Show will have expert advice and great deals on your next home improvement project!

X-ALT-DESC;FMTTYPE=text/html:<!DOCTYPE HTML PUBLIC "-//W3C//DTD HTML 3.2//EN">\n<HTML>\n<HEAD>\n<META NAME="Generator" CONTENT="MS Exchange Server version 08.00.0681.000">\n<TITLE></TITLE>\n</HEAD>\n<BODY>\n<!-- Converted from text/rtf format -->\n\n<p>Austin Fall Home and Garden Show will be held Aug 12th – 14th, 2022 in Austin, TX. This Austin home show is held at Austin Convention Center and hosted by .</p><br /><p>The Austin Home and Garden Show will have expert advice and great deals on your next home improvement project!</p>\n\n</BODY>\n</HTML>

LOCATION:Austin Convention Center, 500, East Cesar Chavez Street, Rainey Street Historic District, Austin, Travis County, Texas, 78702, United States
END:VEVENT

END:VCALENDAR
