BEGIN:VCALENDAR
VERSION:2.0
PRODID:-//hacksw/handcal//NONSGML v1.0//EN
BEGIN:VEVENT
UID:909da3357326b33c3c3924c89c29740e
DTSTAMP:20260420T081820Z

DTSTART:20220311T130000
DTEND:20220313T160000
SUMMARY:Nashville Log Home & Timber Frame Show 2022
DESCRIPTION:Not sure where to begin…start here at our Log Home &amp; Timber Frame Show. You will meet face-to-face with log and timber frame home builders, suppliers, and rustic furniture makers. Great opportunity to see, touch, and feel the products that will make up your dream home. Have questions, get them answered on topics like floor plan design, budgeting, financing, and the difference between a log and timber frame home.

X-ALT-DESC;FMTTYPE=text/html:<!DOCTYPE HTML PUBLIC "-//W3C//DTD HTML 3.2//EN">\n<HTML>\n<HEAD>\n<META NAME="Generator" CONTENT="MS Exchange Server version 08.00.0681.000">\n<TITLE></TITLE>\n</HEAD>\n<BODY>\n<!-- Converted from text/rtf format -->\n\n<p>Not sure where to begin…start here at our Log Home &amp; Timber Frame Show. You will meet face-to-face with log and timber frame home builders, suppliers, and rustic furniture makers. Great opportunity to see, touch, and feel the products that will make up your dream home. Have questions, get them answered on topics like floor plan design, budgeting, financing, and the difference between a log and timber frame home.</p>\n\n</BODY>\n</HTML>

LOCATION:500, Wedgewood Avenue, Wedgewood-Houston, Nashville-Davidson, Davidson County, Tennessee, 37203, United States
END:VEVENT

END:VCALENDAR
