BEGIN:VCALENDAR
VERSION:2.0
PRODID:-//hacksw/handcal//NONSGML v1.0//EN
BEGIN:VEVENT
UID:bf7bf6c70d2f6e1b67139af0047c7e6d
DTSTAMP:20260420T044041Z

DTSTART:20220326T100000
DTEND:20220327T170000
SUMMARY:Atlanta Log Home & Timber Frame Show 2022
DESCRIPTION:The Log Home &amp; Timber Frame Show is being held in the Gas South Convention Center in Duluth, Georgia. The Gas South Convention Center is located off Interstate 85 in Duluth.  Looking for things to do and places to eat while in Duluth, check out the Visit the Explore Gwinett website.

X-ALT-DESC;FMTTYPE=text/html:<!DOCTYPE HTML PUBLIC "-//W3C//DTD HTML 3.2//EN">\n<HTML>\n<HEAD>\n<META NAME="Generator" CONTENT="MS Exchange Server version 08.00.0681.000">\n<TITLE></TITLE>\n</HEAD>\n<BODY>\n<!-- Converted from text/rtf format -->\n\n<p>The Log Home &amp; Timber Frame Show is being held in the Gas South Convention Center in Duluth, Georgia. The Gas South Convention Center is located off Interstate 85 in Duluth.  Looking for things to do and places to eat while in Duluth, check out the <a href="https://www.visitroanokeva.com/plan/visitor-center/">Visit the Explore Gwinett website</a>.</p>\n\n</BODY>\n</HTML>

LOCATION:The Arena at Gwinnett Center, 6400, Sugarloaf Parkway, Gwinnett County, Georgia, 30097, United States
END:VEVENT

END:VCALENDAR
