BEGIN:VCALENDAR
VERSION:2.0
PRODID:-//hacksw/handcal//NONSGML v1.0//EN
BEGIN:VEVENT
UID:8d0445312672a5668e336852800cbf40
DTSTAMP:20260420T070331Z

DTSTART:20220429T130000
DTEND:20220501T160000
SUMMARY:Columbus Log Home & Timber Frame Show 2022
DESCRIPTION:Not sure where to begin…start here at our Log Home &amp; Timber Frame Show. You will meet face-to-face with log and timber frame home builders, suppliers, and rustic furniture makers. Great opportunity to see, touch, and feel the products that will make up your dream home. Have questions, get them answered on topics like floor plan design, budgeting, financing, and the difference between a log and timber frame home.

X-ALT-DESC;FMTTYPE=text/html:<!DOCTYPE HTML PUBLIC "-//W3C//DTD HTML 3.2//EN">\n<HTML>\n<HEAD>\n<META NAME="Generator" CONTENT="MS Exchange Server version 08.00.0681.000">\n<TITLE></TITLE>\n</HEAD>\n<BODY>\n<!-- Converted from text/rtf format -->\n\n<p>Not sure where to begin…start here at our Log Home &amp; Timber Frame Show. You will meet face-to-face with log and timber frame home builders, suppliers, and rustic furniture makers. Great opportunity to see, touch, and feel the products that will make up your dream home. Have questions, get them answered on topics like floor plan design, budgeting, financing, and the difference between a log and timber frame home.</p>\n\n</BODY>\n</HTML>

LOCATION:Ohio Expo Center & State Fair, Black and Gold Boulevard, University District, Columbus, Sharon, Franklin County, Ohio, 43211, United States
END:VEVENT

END:VCALENDAR
