BEGIN:VCALENDAR
VERSION:2.0
PRODID:-//hacksw/handcal//NONSGML v1.0//EN
BEGIN:VEVENT
UID:b626a45307a28b2bbfd824f3eb6f0bd1
DTSTAMP:20260419T182039Z

DTSTART:20220304T100000
DTEND:20220306T160000
SUMMARY:Fresno Spring Home and Garden Show 2022
DESCRIPTION:Fresno Spring Home and Garden Show will be held Mar 4th – 6th, 2022 in Fresno, CA. This Fresno home show is held at Fresno Fairgrounds and hosted by Fresno Home Shows.\nShop over 300 booths of contractors, merchants, crafters and gourmet food products all in one place at the Fresno Fairgrounds! Meet with the contractor who will build your dream kitchen or backyard paradise.

X-ALT-DESC;FMTTYPE=text/html:<!DOCTYPE HTML PUBLIC "-//W3C//DTD HTML 3.2//EN">\n<HTML>\n<HEAD>\n<META NAME="Generator" CONTENT="MS Exchange Server version 08.00.0681.000">\n<TITLE></TITLE>\n</HEAD>\n<BODY>\n<!-- Converted from text/rtf format -->\n\n<p>Fresno Spring Home and Garden Show will be held Mar 4th – 6th, 2022 in Fresno, CA. This Fresno home show is held at Fresno Fairgrounds and hosted by Fresno Home Shows.</p><br /><p>Shop over 300 booths of contractors, merchants, crafters and gourmet food products all in one place at the Fresno Fairgrounds! Meet with the contractor who will build your dream kitchen or backyard paradise.</p>\n\n</BODY>\n</HTML>

LOCATION:1121, South Chance Avenue, Fresno, Fresno County, California, 93702, United States
END:VEVENT

END:VCALENDAR
