BEGIN:VCALENDAR
VERSION:2.0
PRODID:-//hacksw/handcal//NONSGML v1.0//EN
BEGIN:VEVENT
UID:269fc70706bec93cf50c9936a4be954e
DTSTAMP:20260420T041553Z

DTSTART:20220308T100000
DTEND:20220308T110000
SUMMARY:Title Insurance 101 - Mar 8
DESCRIPTION:\nLearn everything you need to know to educate your clients on the title insurance commitment and policy! Learn the basic fundamentals of Title Insurance. After taking this class, you will have basic knowledge of title insurance and how to read a title commitment.\n\nCredits - 1\n \nInstructor Name - SANA HASAN\nCompany Name - Land Title Guarantee Company

X-ALT-DESC;FMTTYPE=text/html:<!DOCTYPE HTML PUBLIC "-//W3C//DTD HTML 3.2//EN">\n<HTML>\n<HEAD>\n<META NAME="Generator" CONTENT="MS Exchange Server version 08.00.0681.000">\n<TITLE></TITLE>\n</HEAD>\n<BODY>\n<!-- Converted from text/rtf format -->\n\n<div class="input"><br /><p>Learn everything you need to know to educate your clients on the title insurance commitment and policy! Learn the basic fundamentals of Title Insurance. After taking this class, you will have basic knowledge of title insurance and how to read a title commitment.</p><br /></div><br /><div class="input">Credits - 1</div><br /><div class="input"> </div><br /><div class="input">Instructor Name - SANA HASAN</div><br /><div class="input">Company Name - Land Title Guarantee Company</div>\n\n</BODY>\n</HTML>

LOCATION:
END:VEVENT

END:VCALENDAR
