BEGIN:VCALENDAR
VERSION:2.0
PRODID:-//hacksw/handcal//NONSGML v1.0//EN
BEGIN:VEVENT
UID:ff4bec96106c619c7afe02757d1d4c4d
DTSTAMP:20260420T072736Z

DTSTART:20220311T100000
DTEND:20220313T170000
SUMMARY:Athens Home Expo 2022
DESCRIPTION:Join us for the Home Show!! Meet face-to-face with Local and National Vendors ready to serve YOU! Get your next Home Project started. See the latest in home improvement, remodeling, design, outdoor living and more. From Ceiling to Flooring, Indoors and outdoors, find a business you can trust.

X-ALT-DESC;FMTTYPE=text/html:<!DOCTYPE HTML PUBLIC "-//W3C//DTD HTML 3.2//EN">\n<HTML>\n<HEAD>\n<META NAME="Generator" CONTENT="MS Exchange Server version 08.00.0681.000">\n<TITLE></TITLE>\n</HEAD>\n<BODY>\n<!-- Converted from text/rtf format -->\n\n<p>Join us for the Home Show!! Meet face-to-face with Local and National Vendors ready to serve YOU! Get your next Home Project started. See the latest in home improvement, remodeling, design, outdoor living and more. From Ceiling to Flooring, Indoors and outdoors, find a business you can trust.</p>\n\n</BODY>\n</HTML>

LOCATION:The Classic Center, 300, North Thomas Street, Athens-Clarke County Unified Government, Athens-Clarke County, Georgia, 30601, United States
END:VEVENT

END:VCALENDAR
